Package: vsn Version: 3.77.0 Command: /Library/Frameworks/R.framework/Resources/bin/R CMD build --keep-empty-dirs --no-resave-data vsn StartedAt: 2025-07-15 17:51:25 -0400 (Tue, 15 Jul 2025) EndedAt: 2025-07-15 17:51:47 -0400 (Tue, 15 Jul 2025) EllapsedTime: 22.2 seconds RetCode: 0 Status: OK PackageFile: vsn_3.77.0.tar.gz PackageFileSize: 2.254 MiB