Package: vsclust Version: 1.11.0 Command: /home/biocbuild/R/R/bin/R CMD check --install=check:vsclust.install-out.txt --library=/home/biocbuild/R/R/site-library --no-vignettes --timings vsclust_1.11.0.tar.gz StartedAt: 2025-07-01 12:54:05 -0000 (Tue, 01 Jul 2025) EndedAt: 2025-07-01 13:00:13 -0000 (Tue, 01 Jul 2025) EllapsedTime: 367.5 seconds RetCode: 0 Status: WARNINGS CheckDir: vsclust.Rcheck Warnings: 1