Package: vsclust Version: 1.11.0 Command: /home/biocbuild/R/R/bin/R CMD build --keep-empty-dirs --no-resave-data vsclust StartedAt: 2025-07-01 03:47:56 -0000 (Tue, 01 Jul 2025) EndedAt: 2025-07-01 03:50:56 -0000 (Tue, 01 Jul 2025) EllapsedTime: 180.1 seconds RetCode: 0 Status: OK PackageFile: vsclust_1.11.0.tar.gz PackageFileSize: 2.443 MiB