Package: vsclust Version: 1.11.1 Command: F:\biocbuild\bbs-3.22-bioc\R\bin\R.exe CMD INSTALL vsclust StartedAt: 2025-07-14 16:52:33 -0400 (Mon, 14 Jul 2025) EndedAt: 2025-07-14 16:53:35 -0400 (Mon, 14 Jul 2025) EllapsedTime: 61.6 seconds RetCode: 0 Status: OK