Package: vsclust Version: 1.11.1 Command: F:\biocbuild\bbs-3.22-bioc\R\bin\R.exe CMD check --no-multiarch --install=check:vsclust.install-out.txt --library=F:\biocbuild\bbs-3.22-bioc\R\library --no-vignettes --timings vsclust_1.11.1.tar.gz StartedAt: 2025-07-15 07:50:59 -0400 (Tue, 15 Jul 2025) EndedAt: 2025-07-15 07:59:19 -0400 (Tue, 15 Jul 2025) EllapsedTime: 499.3 seconds RetCode: 0 Status: OK CheckDir: vsclust.Rcheck Warnings: 0