Package: vsclust Version: 1.11.1 Command: /home/biocbuild/bbs-3.22-bioc/R/bin/R CMD check --install=check:vsclust.install-out.txt --library=/home/biocbuild/bbs-3.22-bioc/R/site-library --timings vsclust_1.11.1.tar.gz StartedAt: 2025-07-16 03:33:06 -0400 (Wed, 16 Jul 2025) EndedAt: 2025-07-16 03:42:01 -0400 (Wed, 16 Jul 2025) EllapsedTime: 535.3 seconds RetCode: 0 Status: OK CheckDir: vsclust.Rcheck Warnings: 0