Package: vsclust Version: 1.11.1 Command: /Library/Frameworks/R.framework/Resources/bin/R CMD check --install=check:vsclust.install-out.txt --library=/Library/Frameworks/R.framework/Resources/library --no-vignettes --timings vsclust_1.11.1.tar.gz StartedAt: 2025-07-22 22:04:34 -0400 (Tue, 22 Jul 2025) EndedAt: 2025-07-22 22:07:00 -0400 (Tue, 22 Jul 2025) EllapsedTime: 145.7 seconds RetCode: 0 Status: OK CheckDir: vsclust.Rcheck Warnings: 0