Package: vsclust Version: 1.11.1 Command: rm -rf vsclust.buildbin-libdir && mkdir vsclust.buildbin-libdir && /Users/biocbuild/BBS/utils/build-universal.sh vsclust_1.11.1.tar.gz /Library/Frameworks/R.framework/Resources/bin/R vsclust.buildbin-libdir StartedAt: 2025-07-22 22:44:35 -0400 (Tue, 22 Jul 2025) EndedAt: 2025-07-22 22:44:52 -0400 (Tue, 22 Jul 2025) EllapsedTime: 17.4 seconds RetCode: 0 Status: OK PackageFile: vsclust_1.11.1.tgz PackageFileSize: 3.958 MiB