############################################################################## ############################################################################## ### ### Running command: ### ### rm -rf vmrseq.buildbin-libdir && mkdir vmrseq.buildbin-libdir && F:\biocbuild\bbs-3.22-bioc\R\bin\R.exe CMD INSTALL --build --library=vmrseq.buildbin-libdir vmrseq_1.1.1.tar.gz ### ############################################################################## ############################################################################## * installing *source* package 'vmrseq' ... ** this is package 'vmrseq' version '1.1.1' ** using staged installation ** R ** data ** inst ** byte-compile and prepare package for lazy loading ** help *** installing help indices *** copying figures ** building package indices ** installing vignettes ** testing if installed package can be loaded from temporary location ** testing if installed package can be loaded from final location ** testing if installed package keeps a record of temporary installation path * MD5 sums packaged installation of 'vmrseq' as vmrseq_1.1.1.zip * DONE (vmrseq)