Package: vissE Version: 1.17.0 Command: /home/biocbuild/R/R/bin/R CMD INSTALL vissE StartedAt: 2025-10-02 21:06:13 -0000 (Thu, 02 Oct 2025) EndedAt: 2025-10-02 21:06:21 -0000 (Thu, 02 Oct 2025) EllapsedTime: 7.6 seconds RetCode: 0 Status: OK