Package: vissE Version: 1.17.0 Command: /home/biocbuild/R/R/bin/R CMD check --install=check:vissE.install-out.txt --library=/home/biocbuild/R/R/site-library --no-vignettes --timings vissE_1.17.0.tar.gz StartedAt: 2025-10-03 12:47:32 -0000 (Fri, 03 Oct 2025) EndedAt: 2025-10-03 12:50:18 -0000 (Fri, 03 Oct 2025) EllapsedTime: 165.2 seconds RetCode: 0 Status: OK CheckDir: vissE.Rcheck Warnings: 0