Package: vissE Version: 1.17.0 Command: /home/biocbuild/R/R/bin/R CMD build --keep-empty-dirs --no-resave-data vissE StartedAt: 2025-10-03 04:08:06 -0000 (Fri, 03 Oct 2025) EndedAt: 2025-10-03 04:18:25 -0000 (Fri, 03 Oct 2025) EllapsedTime: 618.7 seconds RetCode: 0 Status: OK PackageFile: vissE_1.17.0.tar.gz PackageFileSize: 847.5 KiB