Package: vissE Version: 1.17.0 Command: F:\biocbuild\bbs-3.22-bioc\R\bin\R.exe CMD check --no-multiarch --install=check:vissE.install-out.txt --library=F:\biocbuild\bbs-3.22-bioc\R\library --no-vignettes --timings vissE_1.17.0.tar.gz StartedAt: 2025-07-02 07:45:04 -0400 (Wed, 02 Jul 2025) EndedAt: 2025-07-02 07:48:44 -0400 (Wed, 02 Jul 2025) EllapsedTime: 220.5 seconds RetCode: 0 Status: OK CheckDir: vissE.Rcheck Warnings: 0