Package: vissE Version: 1.17.0 Command: /home/biocbuild/bbs-3.22-bioc/R/bin/R CMD INSTALL vissE StartedAt: 2025-10-03 15:37:02 -0400 (Fri, 03 Oct 2025) EndedAt: 2025-10-03 15:37:07 -0400 (Fri, 03 Oct 2025) EllapsedTime: 5.3 seconds RetCode: 0 Status: OK