Package: vissE Version: 1.17.0 Command: /home/biocbuild/bbs-3.22-bioc/R/bin/R CMD build --keep-empty-dirs --no-resave-data --md5 vissE StartedAt: 2025-10-05 20:47:17 -0400 (Sun, 05 Oct 2025) EndedAt: 2025-10-05 20:53:59 -0400 (Sun, 05 Oct 2025) EllapsedTime: 401.2 seconds RetCode: 0 Status: OK PackageFile: vissE_1.17.0.tar.gz PackageFileSize: 1.559 MiB