Package: visiumStitched Version: 1.1.0 Command: /home/biocbuild/R/R/bin/R CMD INSTALL visiumStitched StartedAt: 2025-07-14 21:18:13 -0000 (Mon, 14 Jul 2025) EndedAt: 2025-07-14 21:19:18 -0000 (Mon, 14 Jul 2025) EllapsedTime: 65.1 seconds RetCode: 0 Status: OK