Package: visiumStitched Version: 1.1.0 Command: /home/biocbuild/R/R/bin/R CMD check --install=check:visiumStitched.install-out.txt --library=/home/biocbuild/R/R/site-library --no-vignettes --timings visiumStitched_1.1.0.tar.gz StartedAt: 2025-07-15 12:56:53 -0000 (Tue, 15 Jul 2025) EndedAt: 2025-07-15 13:11:07 -0000 (Tue, 15 Jul 2025) EllapsedTime: 854.4 seconds RetCode: 0 Status: OK CheckDir: visiumStitched.Rcheck Warnings: 0