Package: visiumStitched Version: 1.1.0 Command: /home/biocbuild/R/R/bin/R CMD build --keep-empty-dirs --no-resave-data visiumStitched StartedAt: 2025-07-15 03:45:32 -0000 (Tue, 15 Jul 2025) EndedAt: 2025-07-15 03:51:54 -0000 (Tue, 15 Jul 2025) EllapsedTime: 382.1 seconds RetCode: 0 Status: OK PackageFile: visiumStitched_1.1.0.tar.gz PackageFileSize: 1.968 MiB