Package: visiumStitched Version: 1.1.1 Command: /home/biocbuild/bbs-3.22-bioc/R/bin/R CMD INSTALL visiumStitched StartedAt: 2025-10-03 15:54:22 -0400 (Fri, 03 Oct 2025) EndedAt: 2025-10-03 15:55:11 -0400 (Fri, 03 Oct 2025) EllapsedTime: 49.0 seconds RetCode: 0 Status: OK