Package: visiumStitched Version: 1.1.0 Command: rm -rf visiumStitched.buildbin-libdir && mkdir visiumStitched.buildbin-libdir && /Users/biocbuild/BBS/utils/build-universal.sh visiumStitched_1.1.0.tar.gz /Library/Frameworks/R.framework/Resources/bin/R visiumStitched.buildbin-libdir StartedAt: 2025-07-14 22:38:59 -0400 (Mon, 14 Jul 2025) EndedAt: 2025-07-14 22:39:21 -0400 (Mon, 14 Jul 2025) EllapsedTime: 22.5 seconds RetCode: 0 Status: OK PackageFile: visiumStitched_1.1.0.tgz PackageFileSize: 4.648 MiB