Package: visiumStitched Version: 1.1.0 Maintainer: Nicholas J. Eagles MaintainerEmail: nickeagles77 at gmail.com git_url: https://git.bioconductor.org/packages/visiumStitched git_branch: devel git_last_commit: 142b910 git_last_commit_date: 2025-04-15 13:44:04 -0400 (Tue, 15 Apr 2025)