Package: veloviz Version: 1.15.0 Command: /home/biocbuild/R/R/bin/R CMD INSTALL veloviz StartedAt: 2025-07-21 20:26:09 -0000 (Mon, 21 Jul 2025) EndedAt: 2025-07-21 20:27:09 -0000 (Mon, 21 Jul 2025) EllapsedTime: 59.5 seconds RetCode: 0 Status: OK