Package: veloviz Version: 1.15.0 Command: chmod a+r veloviz -R && F:\biocbuild\bbs-3.22-bioc\R\bin\R.exe CMD build --keep-empty-dirs --no-resave-data veloviz StartedAt: 2025-07-22 22:48:12 -0400 (Tue, 22 Jul 2025) EndedAt: 2025-07-22 22:48:43 -0400 (Tue, 22 Jul 2025) EllapsedTime: 30.6 seconds RetCode: 0 Status: OK PackageFile: veloviz_1.15.0.tar.gz PackageFileSize: 3.536 MiB