Package: veloviz Version: 1.15.0 Command: rm -rf veloviz.buildbin-libdir && mkdir veloviz.buildbin-libdir && F:\biocbuild\bbs-3.22-bioc\R\bin\R.exe CMD INSTALL --build --library=veloviz.buildbin-libdir veloviz_1.15.0.tar.gz StartedAt: 2025-07-23 10:25:05 -0400 (Wed, 23 Jul 2025) EndedAt: 2025-07-23 10:25:28 -0400 (Wed, 23 Jul 2025) EllapsedTime: 23.2 seconds RetCode: 0 Status: OK PackageFile: veloviz_1.15.0.zip PackageFileSize: 3.95 MiB