Package: veloviz Version: 1.15.0 Command: /Library/Frameworks/R.framework/Resources/bin/R CMD check --install=check:veloviz.install-out.txt --library=/Library/Frameworks/R.framework/Resources/library --no-vignettes --timings veloviz_1.15.0.tar.gz StartedAt: 2025-07-21 22:04:33 -0400 (Mon, 21 Jul 2025) EndedAt: 2025-07-21 22:04:59 -0400 (Mon, 21 Jul 2025) EllapsedTime: 26.3 seconds RetCode: 0 Status: OK CheckDir: veloviz.Rcheck Warnings: 0