Package: veloviz Version: 1.15.0 Command: rm -rf veloviz.buildbin-libdir && mkdir veloviz.buildbin-libdir && /Users/biocbuild/BBS/utils/build-universal.sh veloviz_1.15.0.tar.gz /Library/Frameworks/R.framework/Resources/bin/R veloviz.buildbin-libdir StartedAt: 2025-07-20 22:45:58 -0400 (Sun, 20 Jul 2025) EndedAt: 2025-07-20 22:46:04 -0400 (Sun, 20 Jul 2025) EllapsedTime: 6.1 seconds RetCode: 0 Status: OK PackageFile: veloviz_1.15.0.tgz PackageFileSize: 3.67 MiB