Package: velociraptor Version: 1.19.0 Command: /home/biocbuild/bbs-3.22-bioc/R/bin/R CMD INSTALL velociraptor StartedAt: 2025-07-07 15:51:23 -0400 (Mon, 07 Jul 2025) EndedAt: 2025-07-07 15:51:34 -0400 (Mon, 07 Jul 2025) EllapsedTime: 11.1 seconds RetCode: 1 Status: ERROR