############################################################################## ############################################################################## ### ### Running command: ### ### /home/biocbuild/bbs-3.22-bioc/R/bin/R CMD INSTALL velociraptor ### ############################################################################## ############################################################################## * installing to library ‘/home/biocbuild/bbs-3.22-bioc/R/site-library’ * installing *source* package ‘velociraptor’ ... ** this is package ‘velociraptor’ version ‘1.19.0’ ** using non-staged installation via StagedInstall field ** R ** inst ** byte-compile and prepare package for lazy loading Error : 'isWindows' is not an exported object from 'namespace:basilisk.utils' Error: unable to load R code in package ‘velociraptor’ Execution halted ERROR: lazy loading failed for package ‘velociraptor’ * removing ‘/home/biocbuild/bbs-3.22-bioc/R/site-library/velociraptor’