Package: velociraptor Version: 1.19.0 Command: rm -rf velociraptor.buildbin-libdir && mkdir velociraptor.buildbin-libdir && /Users/biocbuild/BBS/utils/build-universal.sh velociraptor_1.19.0.tar.gz /Library/Frameworks/R.framework/Resources/bin/R velociraptor.buildbin-libdir StartedAt: 2025-05-08 23:35:04 -0400 (Thu, 08 May 2025) EndedAt: 2025-05-08 23:35:16 -0400 (Thu, 08 May 2025) EllapsedTime: 11.2 seconds RetCode: 0 Status: OK PackageFile: velociraptor_1.19.0.tgz PackageFileSize: 907.2 KiB