Package: variancePartition Version: 1.39.0 Command: chmod a+r variancePartition -R && F:\biocbuild\bbs-3.22-bioc\R\bin\R.exe CMD build --keep-empty-dirs --no-resave-data variancePartition StartedAt: 2025-07-14 22:45:46 -0400 (Mon, 14 Jul 2025) EndedAt: 2025-07-14 23:00:48 -0400 (Mon, 14 Jul 2025) EllapsedTime: 901.7 seconds RetCode: 0 Status: OK PackageFile: variancePartition_1.39.0.tar.gz PackageFileSize: 3.869 MiB