Package: variancePartition Version: 1.39.0 Command: rm -rf variancePartition.buildbin-libdir && mkdir variancePartition.buildbin-libdir && F:\biocbuild\bbs-3.22-bioc\R\bin\R.exe CMD INSTALL --build --library=variancePartition.buildbin-libdir variancePartition_1.39.0.tar.gz StartedAt: 2025-07-15 10:12:42 -0400 (Tue, 15 Jul 2025) EndedAt: 2025-07-15 10:15:01 -0400 (Tue, 15 Jul 2025) EllapsedTime: 138.1 seconds RetCode: 0 Status: OK PackageFile: variancePartition_1.39.0.zip PackageFileSize: 4.012 MiB