Package: variancePartition Version: 1.39.0 Command: rm -rf variancePartition.buildbin-libdir && mkdir variancePartition.buildbin-libdir && /Users/biocbuild/BBS/utils/build-universal.sh variancePartition_1.39.0.tar.gz /Library/Frameworks/R.framework/Resources/bin/R variancePartition.buildbin-libdir StartedAt: 2025-06-29 22:37:46 -0400 (Sun, 29 Jun 2025) EndedAt: 2025-06-29 22:37:54 -0400 (Sun, 29 Jun 2025) EllapsedTime: 8.1 seconds RetCode: 0 Status: OK PackageFile: variancePartition_1.39.0.tgz PackageFileSize: 5.124 MiB