Package: universalmotif Version: 1.27.2 Command: /home/biocbuild/R/R/bin/R CMD check --install=check:universalmotif.install-out.txt --library=/home/biocbuild/R/R/site-library --no-vignettes --timings universalmotif_1.27.2.tar.gz StartedAt: 2025-07-22 12:48:35 -0000 (Tue, 22 Jul 2025) EndedAt: 2025-07-22 12:51:59 -0000 (Tue, 22 Jul 2025) EllapsedTime: 204.3 seconds RetCode: 0 Status: OK CheckDir: universalmotif.Rcheck Warnings: 0