Package: universalmotif Version: 1.27.2 Command: chmod a+r universalmotif -R && F:\biocbuild\bbs-3.22-bioc\R\bin\R.exe CMD build --keep-empty-dirs --no-resave-data universalmotif StartedAt: 2025-07-24 22:58:32 -0400 (Thu, 24 Jul 2025) EndedAt: 2025-07-24 23:05:02 -0400 (Thu, 24 Jul 2025) EllapsedTime: 389.4 seconds RetCode: 0 Status: OK PackageFile: universalmotif_1.27.2.tar.gz PackageFileSize: 3.555 MiB