Package: uSORT Version: 1.35.0 Command: F:\biocbuild\bbs-3.22-bioc\R\bin\R.exe CMD INSTALL uSORT StartedAt: 2025-07-24 15:57:01 -0400 (Thu, 24 Jul 2025) EndedAt: 2025-07-24 15:57:38 -0400 (Thu, 24 Jul 2025) EllapsedTime: 37.0 seconds RetCode: 0 Status: OK