Package: uSORT Version: 1.35.0 Command: chmod a+r uSORT -R && F:\biocbuild\bbs-3.22-bioc\R\bin\R.exe CMD build --keep-empty-dirs --no-resave-data uSORT StartedAt: 2025-07-24 22:58:51 -0400 (Thu, 24 Jul 2025) EndedAt: 2025-07-24 22:59:32 -0400 (Thu, 24 Jul 2025) EllapsedTime: 41.6 seconds RetCode: 0 Status: OK PackageFile: uSORT_1.35.0.tar.gz PackageFileSize: 2.814 MiB