Package: uSORT Version: 1.35.0 Command: /Library/Frameworks/R.framework/Resources/bin/R CMD INSTALL uSORT StartedAt: 2025-07-22 15:07:35 -0400 (Tue, 22 Jul 2025) EndedAt: 2025-07-22 15:07:46 -0400 (Tue, 22 Jul 2025) EllapsedTime: 11.0 seconds RetCode: 0 Status: OK