Package: uSORT Version: 1.35.0 Command: /Library/Frameworks/R.framework/Resources/bin/R CMD check --install=check:uSORT.install-out.txt --library=/Library/Frameworks/R.framework/Resources/library --no-vignettes --timings uSORT_1.35.0.tar.gz StartedAt: 2025-07-22 22:01:51 -0400 (Tue, 22 Jul 2025) EndedAt: 2025-07-22 22:03:13 -0400 (Tue, 22 Jul 2025) EllapsedTime: 82.0 seconds RetCode: 0 Status: WARNINGS CheckDir: uSORT.Rcheck Warnings: 1