Package: uSORT Version: 1.35.0 Command: /Library/Frameworks/R.framework/Resources/bin/R CMD build --keep-empty-dirs --no-resave-data uSORT StartedAt: 2025-07-22 17:51:02 -0400 (Tue, 22 Jul 2025) EndedAt: 2025-07-22 17:51:16 -0400 (Tue, 22 Jul 2025) EllapsedTime: 14.2 seconds RetCode: 0 Status: OK PackageFile: uSORT_1.35.0.tar.gz PackageFileSize: 2.814 MiB