Package: tximport Version: 1.37.1 Command: F:\biocbuild\bbs-3.22-bioc\R\bin\R.exe CMD INSTALL tximport StartedAt: 2025-07-22 15:22:54 -0400 (Tue, 22 Jul 2025) EndedAt: 2025-07-22 15:23:12 -0400 (Tue, 22 Jul 2025) EllapsedTime: 17.9 seconds RetCode: 0 Status: OK