Package: tximport Version: 1.37.1 Command: F:\biocbuild\bbs-3.22-bioc\R\bin\R.exe CMD check --no-multiarch --install=check:tximport.install-out.txt --library=F:\biocbuild\bbs-3.22-bioc\R\library --no-vignettes --timings tximport_1.37.1.tar.gz StartedAt: 2025-07-23 07:53:27 -0400 (Wed, 23 Jul 2025) EndedAt: 2025-07-23 07:56:09 -0400 (Wed, 23 Jul 2025) EllapsedTime: 162.9 seconds RetCode: 0 Status: OK CheckDir: tximport.Rcheck Warnings: 0