Package: tximport Version: 1.37.1 Command: rm -rf tximport.buildbin-libdir && mkdir tximport.buildbin-libdir && F:\biocbuild\bbs-3.22-bioc\R\bin\R.exe CMD INSTALL --build --library=tximport.buildbin-libdir tximport_1.37.1.tar.gz StartedAt: 2025-07-23 10:23:56 -0400 (Wed, 23 Jul 2025) EndedAt: 2025-07-23 10:24:06 -0400 (Wed, 23 Jul 2025) EllapsedTime: 10.5 seconds RetCode: 0 Status: OK PackageFile: tximport_1.37.1.zip PackageFileSize: 357.2 KiB