Package: tximport Version: 1.37.1 Command: /Library/Frameworks/R.framework/Resources/bin/R CMD INSTALL tximport StartedAt: 2025-07-11 15:04:43 -0400 (Fri, 11 Jul 2025) EndedAt: 2025-07-11 15:04:59 -0400 (Fri, 11 Jul 2025) EllapsedTime: 15.6 seconds RetCode: 0 Status: OK