Package: tximport Version: 1.37.1 Command: /Library/Frameworks/R.framework/Resources/bin/R CMD build --keep-empty-dirs --no-resave-data tximport StartedAt: 2025-07-11 18:50:20 -0400 (Fri, 11 Jul 2025) EndedAt: 2025-07-11 18:51:20 -0400 (Fri, 11 Jul 2025) EllapsedTime: 59.6 seconds RetCode: 0 Status: OK PackageFile: tximport_1.37.1.tar.gz PackageFileSize: 308.2 KiB