Package: txdbmaker Version: 1.5.6 Command: /home/biocbuild/R/R/bin/R CMD check --install=check:txdbmaker.install-out.txt --library=/home/biocbuild/R/R/site-library --no-vignettes --timings txdbmaker_1.5.6.tar.gz StartedAt: 2025-07-15 12:51:21 -0000 (Tue, 15 Jul 2025) EndedAt: 2025-07-15 13:07:53 -0000 (Tue, 15 Jul 2025) EllapsedTime: 991.7 seconds RetCode: 0 Status: OK CheckDir: txdbmaker.Rcheck Warnings: 0