Package: txdbmaker Version: 1.5.6 Command: F:\biocbuild\bbs-3.22-bioc\R\bin\R.exe CMD INSTALL txdbmaker StartedAt: 2025-07-01 16:22:18 -0400 (Tue, 01 Jul 2025) EndedAt: 2025-07-01 16:23:19 -0400 (Tue, 01 Jul 2025) EllapsedTime: 60.2 seconds RetCode: 0 Status: OK