Package: txdbmaker Version: 1.5.6 Command: chmod a+r txdbmaker -R && F:\biocbuild\bbs-3.22-bioc\R\bin\R.exe CMD build --keep-empty-dirs --no-resave-data txdbmaker StartedAt: 2025-07-01 22:41:09 -0400 (Tue, 01 Jul 2025) EndedAt: 2025-07-01 22:43:23 -0400 (Tue, 01 Jul 2025) EllapsedTime: 134.5 seconds RetCode: 0 Status: OK PackageFile: txdbmaker_1.5.6.tar.gz PackageFileSize: 14.53 MiB