Package: txdbmaker Version: 1.5.6 Command: rm -rf txdbmaker.buildbin-libdir && mkdir txdbmaker.buildbin-libdir && F:\biocbuild\bbs-3.22-bioc\R\bin\R.exe CMD INSTALL --build --library=txdbmaker.buildbin-libdir txdbmaker_1.5.6.tar.gz StartedAt: 2025-07-02 10:08:58 -0400 (Wed, 02 Jul 2025) EndedAt: 2025-07-02 10:10:23 -0400 (Wed, 02 Jul 2025) EllapsedTime: 84.7 seconds RetCode: 0 Status: OK PackageFile: txdbmaker_1.5.6.zip PackageFileSize: 1.246 MiB