Back to Multiple platform build/check report for BioC 3.22:   simplified   long
ABCDEFGHIJKLMNOPQRS[T]UVWXYZ

This page was generated on 2025-10-06 12:03 -0400 (Mon, 06 Oct 2025).

HostnameOSArch (*)R versionInstalled pkgs
nebbiolo2Linux (Ubuntu 24.04.3 LTS)x86_644.5.1 Patched (2025-08-23 r88802) -- "Great Square Root" 4853
lconwaymacOS 12.7.1 Montereyx86_644.5.1 Patched (2025-09-10 r88807) -- "Great Square Root" 4640
kjohnson3macOS 13.7.7 Venturaarm644.5.1 Patched (2025-09-10 r88807) -- "Great Square Root" 4585
taishanLinux (openEuler 24.03 LTS)aarch644.5.0 (2025-04-11) -- "How About a Twenty-Six" 4576
Click on any hostname to see more info about the system (e.g. compilers)      (*) as reported by 'uname -p', except on Windows and Mac OS X

All results for package txdbmaker


To the developers/maintainers of the txdbmaker package:
- Allow up to 24 hours (and sometimes 48 hours) for your latest push to git@git.bioconductor.org:packages/txdbmaker.git to reflect on this report. See Troubleshooting Build Report for more information.
- Use the following Renviron settings to reproduce errors and warnings.
- If 'R CMD check' started to fail recently on the Linux builder(s) over a missing dependency, add the missing dependency to 'Suggests:' in your DESCRIPTION file. See Renviron.bioc for more information.

raw results

Package 2264/2341HostnameOS / ArchINSTALLBUILDCHECKBUILD BIN
txdbmaker 1.5.6  (landing page)
H. Pagès
Snapshot Date: 2025-10-05 13:45 -0400 (Sun, 05 Oct 2025)
git_url: https://git.bioconductor.org/packages/txdbmaker
git_branch: devel
git_last_commit: c61f229
git_last_commit_date: 2025-06-23 00:38:48 -0400 (Mon, 23 Jun 2025)
nebbiolo2Linux (Ubuntu 24.04.3 LTS) / x86_64  OK    OK    OK  UNNEEDED, same version is already published
lconwaymacOS 12.7.1 Monterey / x86_64  OK    OK    OK    OK  UNNEEDED, same version is already published
kjohnson3macOS 13.7.7 Ventura / arm64  OK    OK    OK    OK  UNNEEDED, same version is already published
taishanLinux (openEuler 24.03 LTS) / aarch64  OK    OK    OK  



Results for Bioconductor software packages that depend directly on package txdbmaker

QUICK STATSOS / ArchINSTALLBUILDCHECKBUILD BIN
nebbiolo2Linux (Ubuntu 24.04.3 LTS) / x86_64
0030
0129
02324
lconwaymacOS 12.7.1 Monterey / x86_64
0030
0129
02324
0029
kjohnson3macOS 13.7.7 Ventura / arm64
0030
0129
02324
0029
taishanLinux (openEuler 24.03 LTS) / aarch64
0030
0228
14320
Package 1/30HostnameOS / ArchINSTALLBUILDCHECKBUILD BIN
ASpli 2.19.0  (landing page)
Ariel Chernomoretz
git_last_commit: cb7af3a
git_last_commit_date: 2025-04-15 11:04:04 -0400
nebbiolo2Linux (Ubuntu 24.04.3 LTS) / x86_64  OK    OK    WARNINGS  UNNEEDED, same version is already published
lconwaymacOS 12.7.1 Monterey / x86_64  OK    OK    WARNINGS    OK  UNNEEDED, same version is already published
kjohnson3macOS 13.7.7 Ventura / arm64  OK    OK    WARNINGS    OK  UNNEEDED, same version is already published
taishanLinux (openEuler 24.03 LTS) / aarch64  OK    OK    WARNINGS  
Package 2/30HostnameOS / ArchINSTALLBUILDCHECKBUILD BIN
BgeeCall 1.25.0  (landing page)
Julien Wollbrett
git_last_commit: ff8547a
git_last_commit_date: 2025-07-21 14:19:08 -0400
nebbiolo2Linux (Ubuntu 24.04.3 LTS) / x86_64  OK    OK    OK  UNNEEDED, same version is already published
lconwaymacOS 12.7.1 Monterey / x86_64  OK    OK    OK    OK  UNNEEDED, same version is already published
kjohnson3macOS 13.7.7 Ventura / arm64  OK    OK    OK    OK  UNNEEDED, same version is already published
taishanLinux (openEuler 24.03 LTS) / aarch64  OK    OK    ERROR  
Package 3/30HostnameOS / ArchINSTALLBUILDCHECKBUILD BIN
crisprDesign 1.11.1  (landing page)
Jean-Philippe Fortin
git_last_commit: eb7b7de
git_last_commit_date: 2025-07-17 20:07:40 -0400
nebbiolo2Linux (Ubuntu 24.04.3 LTS) / x86_64  OK    OK    OK  UNNEEDED, same version is already published
lconwaymacOS 12.7.1 Monterey / x86_64  OK    OK    OK    OK  UNNEEDED, same version is already published
kjohnson3macOS 13.7.7 Ventura / arm64  OK    OK    OK    OK  UNNEEDED, same version is already published
taishanLinux (openEuler 24.03 LTS) / aarch64  OK    OK    ERROR  
Package 4/30HostnameOS / ArchINSTALLBUILDCHECKBUILD BIN
crisprViz 1.11.1  (landing page)
Jean-Philippe Fortin
git_last_commit: 220bd9b
git_last_commit_date: 2025-07-22 22:44:53 -0400
nebbiolo2Linux (Ubuntu 24.04.3 LTS) / x86_64  OK    OK    OK  UNNEEDED, same version is already published
lconwaymacOS 12.7.1 Monterey / x86_64  OK    OK    OK    OK  UNNEEDED, same version is already published
kjohnson3macOS 13.7.7 Ventura / arm64  OK    OK    OK    OK  UNNEEDED, same version is already published
taishanLinux (openEuler 24.03 LTS) / aarch64  OK    OK    OK  
Package 5/30HostnameOS / ArchINSTALLBUILDCHECKBUILD BIN
customProDB 1.49.0  (landing page)
Xiaojing Wang
git_last_commit: 2d2db50
git_last_commit_date: 2025-04-15 10:24:39 -0400
nebbiolo2Linux (Ubuntu 24.04.3 LTS) / x86_64  OK    OK    ERROR  
lconwaymacOS 12.7.1 Monterey / x86_64  OK    OK    ERROR    OK  
kjohnson3macOS 13.7.7 Ventura / arm64  OK    OK    ERROR    OK  
taishanLinux (openEuler 24.03 LTS) / aarch64  OK    OK    ERROR  
Package 6/30HostnameOS / ArchINSTALLBUILDCHECKBUILD BIN
DegNorm 1.19.1  (landing page)
Ji-Ping Wang
git_last_commit: 4748842
git_last_commit_date: 2025-08-11 13:34:57 -0400
nebbiolo2Linux (Ubuntu 24.04.3 LTS) / x86_64  OK    OK    OK  UNNEEDED, same version is already published
lconwaymacOS 12.7.1 Monterey / x86_64  OK    OK    OK    OK  UNNEEDED, same version is already published
kjohnson3macOS 13.7.7 Ventura / arm64  OK    OK    OK    OK  UNNEEDED, same version is already published
taishanLinux (openEuler 24.03 LTS) / aarch64  OK    OK    OK  
Package 7/30HostnameOS / ArchINSTALLBUILDCHECKBUILD BIN
ELViS 1.1.12  (landing page)
Jin-Young Lee
git_last_commit: a8349a4
git_last_commit_date: 2025-09-15 12:15:40 -0400
nebbiolo2Linux (Ubuntu 24.04.3 LTS) / x86_64  OK    OK    OK  UNNEEDED, same version is already published
lconwaymacOS 12.7.1 Monterey / x86_64  OK    OK    OK    OK  UNNEEDED, same version is already published
kjohnson3macOS 13.7.7 Ventura / arm64  OK    OK    OK    OK  UNNEEDED, same version is already published
taishanLinux (openEuler 24.03 LTS) / aarch64  OK    OK    OK  
Package 8/30HostnameOS / ArchINSTALLBUILDCHECKBUILD BIN
EpiTxDb 1.21.2  (landing page)
Felix G.M. Ernst
git_last_commit: 8c847b6
git_last_commit_date: 2025-09-23 17:20:40 -0400
nebbiolo2Linux (Ubuntu 24.04.3 LTS) / x86_64  OK    OK    OK  UNNEEDED, same version is already published
lconwaymacOS 12.7.1 Monterey / x86_64  OK    OK    OK    OK  UNNEEDED, same version is already published
kjohnson3macOS 13.7.7 Ventura / arm64  OK    OK    OK    OK  UNNEEDED, same version is already published
taishanLinux (openEuler 24.03 LTS) / aarch64  OK    OK    OK  
Package 9/30HostnameOS / ArchINSTALLBUILDCHECKBUILD BIN
GenomicPlot 1.7.2  (landing page)
Shuye Pu
git_last_commit: 036997a
git_last_commit_date: 2025-07-22 20:25:27 -0400
nebbiolo2Linux (Ubuntu 24.04.3 LTS) / x86_64  OK    OK    OK  UNNEEDED, same version is already published
lconwaymacOS 12.7.1 Monterey / x86_64  OK    OK    OK    OK  UNNEEDED, same version is already published
kjohnson3macOS 13.7.7 Ventura / arm64  OK    OK    OK    OK  UNNEEDED, same version is already published
taishanLinux (openEuler 24.03 LTS) / aarch64  OK    OK    OK  
Package 10/30HostnameOS / ArchINSTALLBUILDCHECKBUILD BIN
IntEREst 1.33.0  (landing page)
Ali Oghabian
git_last_commit: 7a2f9e3
git_last_commit_date: 2025-04-15 11:09:17 -0400
nebbiolo2Linux (Ubuntu 24.04.3 LTS) / x86_64  OK    OK    OK  UNNEEDED, same version is already published
lconwaymacOS 12.7.1 Monterey / x86_64  OK    OK    OK    OK  UNNEEDED, same version is already published
kjohnson3macOS 13.7.7 Ventura / arm64  OK    OK    OK    OK  UNNEEDED, same version is already published
taishanLinux (openEuler 24.03 LTS) / aarch64  OK    OK    OK  
Package 11/30HostnameOS / ArchINSTALLBUILDCHECKBUILD BIN
metaseqR2 1.21.1  (landing page)
Panagiotis Moulos
git_last_commit: 46b23ae
git_last_commit_date: 2025-07-23 12:57:05 -0400
nebbiolo2Linux (Ubuntu 24.04.3 LTS) / x86_64  OK    OK    ERROR  
lconwaymacOS 12.7.1 Monterey / x86_64  OK    OK    ERROR    OK  
kjohnson3macOS 13.7.7 Ventura / arm64  OK    OK    ERROR    OK  
taishanLinux (openEuler 24.03 LTS) / aarch64  OK    ERROR  skipped
Package 12/30HostnameOS / ArchINSTALLBUILDCHECKBUILD BIN
mygene 1.45.0  (landing page)
Adam Mark, Cyrus Afrasiabi, Chunlei Wu
git_last_commit: 66816e2
git_last_commit_date: 2025-04-15 10:36:27 -0400
nebbiolo2Linux (Ubuntu 24.04.3 LTS) / x86_64  OK    OK    OK  UNNEEDED, same version is already published
lconwaymacOS 12.7.1 Monterey / x86_64  OK    OK    OK    OK  UNNEEDED, same version is already published
kjohnson3macOS 13.7.7 Ventura / arm64  OK    OK    OK    OK  UNNEEDED, same version is already published
taishanLinux (openEuler 24.03 LTS) / aarch64  OK    OK    OK  
Package 13/30HostnameOS / ArchINSTALLBUILDCHECKBUILD BIN
ORFik 1.29.9  (landing page)
Haakon Tjeldnes
git_last_commit: 91fe5a2
git_last_commit_date: 2025-09-19 07:15:59 -0400
nebbiolo2Linux (Ubuntu 24.04.3 LTS) / x86_64  OK    OK    OK  UNNEEDED, same version is already published
lconwaymacOS 12.7.1 Monterey / x86_64  OK    OK    OK    OK  UNNEEDED, same version is already published
kjohnson3macOS 13.7.7 Ventura / arm64  OK    OK    OK    OK  UNNEEDED, same version is already published
taishanLinux (openEuler 24.03 LTS) / aarch64  OK    OK    TIMEOUT  
Package 14/30HostnameOS / ArchINSTALLBUILDCHECKBUILD BIN
OUTRIDER 1.27.2  (landing page)
Christian Mertes
git_last_commit: 1ebc358
git_last_commit_date: 2025-07-28 15:40:55 -0400
nebbiolo2Linux (Ubuntu 24.04.3 LTS) / x86_64  OK    OK    OK  UNNEEDED, same version is already published
lconwaymacOS 12.7.1 Monterey / x86_64  OK    OK    OK    OK  UNNEEDED, same version is already published
kjohnson3macOS 13.7.7 Ventura / arm64  OK    OK    OK    OK  UNNEEDED, same version is already published
taishanLinux (openEuler 24.03 LTS) / aarch64  OK    OK    OK  
Package 15/30HostnameOS / ArchINSTALLBUILDCHECKBUILD BIN
proActiv 1.19.3  (landing page)
Joseph Lee
git_last_commit: 042c9f7
git_last_commit_date: 2025-07-31 13:22:45 -0400
nebbiolo2Linux (Ubuntu 24.04.3 LTS) / x86_64  OK    OK    OK  UNNEEDED, same version is already published
lconwaymacOS 12.7.1 Monterey / x86_64  OK    OK    OK    OK  UNNEEDED, same version is already published
kjohnson3macOS 13.7.7 Ventura / arm64  OK    OK    OK    OK  UNNEEDED, same version is already published
taishanLinux (openEuler 24.03 LTS) / aarch64  OK    OK    OK  
Package 16/30HostnameOS / ArchINSTALLBUILDCHECKBUILD BIN
proBAMr 1.43.1  (landing page)
Xiaojing Wang
git_last_commit: c2450bb
git_last_commit_date: 2025-04-30 15:07:53 -0400
nebbiolo2Linux (Ubuntu 24.04.3 LTS) / x86_64  OK    OK    OK  UNNEEDED, same version is already published
lconwaymacOS 12.7.1 Monterey / x86_64  OK    OK    OK    OK  UNNEEDED, same version is already published
kjohnson3macOS 13.7.7 Ventura / arm64  OK    OK    OK    OK  UNNEEDED, same version is already published
taishanLinux (openEuler 24.03 LTS) / aarch64  OK    OK    OK  
Package 17/30HostnameOS / ArchINSTALLBUILDCHECKBUILD BIN
QuasR 1.49.3  (landing page)
Michael Stadler
git_last_commit: aa5c77a
git_last_commit_date: 2025-06-23 19:20:54 -0400
nebbiolo2Linux (Ubuntu 24.04.3 LTS) / x86_64  OK    OK    WARNINGS  UNNEEDED, same version is already published
lconwaymacOS 12.7.1 Monterey / x86_64  OK    OK    WARNINGS    OK  UNNEEDED, same version is already published
kjohnson3macOS 13.7.7 Ventura / arm64  OK    OK    WARNINGS    OK  UNNEEDED, same version is already published
taishanLinux (openEuler 24.03 LTS) / aarch64  OK    OK    WARNINGS  
Package 18/30HostnameOS / ArchINSTALLBUILDCHECKBUILD BIN
RCAS 1.35.0  (landing page)
Bora Uyar
git_last_commit: 2067192
git_last_commit_date: 2025-04-15 11:03:46 -0400
nebbiolo2Linux (Ubuntu 24.04.3 LTS) / x86_64  OK    OK    OK  UNNEEDED, same version is already published
lconwaymacOS 12.7.1 Monterey / x86_64  OK    OK    OK    OK  UNNEEDED, same version is already published
kjohnson3macOS 13.7.7 Ventura / arm64  OK    OK    OK    OK  UNNEEDED, same version is already published
taishanLinux (openEuler 24.03 LTS) / aarch64  OK    OK    OK  
Package 19/30HostnameOS / ArchINSTALLBUILDCHECKBUILD BIN
recoup 1.37.1  (landing page)
Panagiotis Moulos
git_last_commit: 8a07c44
git_last_commit_date: 2025-07-23 16:19:41 -0400
nebbiolo2Linux (Ubuntu 24.04.3 LTS) / x86_64  OK    OK    OK  UNNEEDED, same version is already published
lconwaymacOS 12.7.1 Monterey / x86_64  OK    OK    OK    OK  UNNEEDED, same version is already published
kjohnson3macOS 13.7.7 Ventura / arm64  OK    OK    OK    OK  UNNEEDED, same version is already published
taishanLinux (openEuler 24.03 LTS) / aarch64  OK    OK    OK  
Package 20/30HostnameOS / ArchINSTALLBUILDCHECKBUILD BIN
Rhisat2 1.25.0  (landing page)
Charlotte Soneson
git_last_commit: b1ac924
git_last_commit_date: 2025-04-15 11:40:26 -0400
nebbiolo2Linux (Ubuntu 24.04.3 LTS) / x86_64  OK    OK    WARNINGS  UNNEEDED, same version is already published
lconwaymacOS 12.7.1 Monterey / x86_64  OK    OK    WARNINGS    OK  UNNEEDED, same version is already published
kjohnson3macOS 13.7.7 Ventura / arm64  OK    OK    WARNINGS    OK  UNNEEDED, same version is already published
taishanLinux (openEuler 24.03 LTS) / aarch64  OK    OK    WARNINGS  
Package 21/30HostnameOS / ArchINSTALLBUILDCHECKBUILD BIN
RiboDiPA 1.17.1  (landing page)
Ji-Ping Wang
git_last_commit: a283ae2
git_last_commit_date: 2025-05-19 12:35:40 -0400
nebbiolo2Linux (Ubuntu 24.04.3 LTS) / x86_64  OK    OK    OK  UNNEEDED, same version is already published
lconwaymacOS 12.7.1 Monterey / x86_64  OK    OK    OK    OK  UNNEEDED, same version is already published
kjohnson3macOS 13.7.7 Ventura / arm64  OK    OK    OK    OK  UNNEEDED, same version is already published
taishanLinux (openEuler 24.03 LTS) / aarch64  OK    OK    OK  
Package 22/30HostnameOS / ArchINSTALLBUILDCHECKBUILD BIN
ribosomeProfilingQC 1.21.2  (landing page)
Jianhong Ou
git_last_commit: 155968b
git_last_commit_date: 2025-07-23 16:29:57 -0400
nebbiolo2Linux (Ubuntu 24.04.3 LTS) / x86_64  OK    OK    OK  UNNEEDED, same version is already published
lconwaymacOS 12.7.1 Monterey / x86_64  OK    OK    OK    OK  UNNEEDED, same version is already published
kjohnson3macOS 13.7.7 Ventura / arm64  OK    OK    OK    OK  UNNEEDED, same version is already published
taishanLinux (openEuler 24.03 LTS) / aarch64  OK    OK    OK  
Package 23/30HostnameOS / ArchINSTALLBUILDCHECKBUILD BIN
RNAmodR 1.23.2  (landing page)
Felix G.M. Ernst
git_last_commit: c241cdb
git_last_commit_date: 2025-09-23 16:09:50 -0400
nebbiolo2Linux (Ubuntu 24.04.3 LTS) / x86_64  OK    OK    OK  UNNEEDED, same version is already published
lconwaymacOS 12.7.1 Monterey / x86_64  OK    OK    OK    OK  UNNEEDED, same version is already published
kjohnson3macOS 13.7.7 Ventura / arm64  OK    OK    OK    OK  UNNEEDED, same version is already published
taishanLinux (openEuler 24.03 LTS) / aarch64  OK    OK    OK  
Package 24/30HostnameOS / ArchINSTALLBUILDCHECKBUILD BIN
scafari 0.99.12  (landing page)
Sophie Wind
git_last_commit: de95550
git_last_commit_date: 2025-07-29 07:18:09 -0400
nebbiolo2Linux (Ubuntu 24.04.3 LTS) / x86_64  OK    OK    OK  UNNEEDED, same version is already published
lconwaymacOS 12.7.1 Monterey / x86_64  OK    OK    OK    OK  UNNEEDED, same version is already published
kjohnson3macOS 13.7.7 Ventura / arm64  OK    OK    OK    OK  UNNEEDED, same version is already published
taishanLinux (openEuler 24.03 LTS) / aarch64  OK    OK    OK  
Package 25/30HostnameOS / ArchINSTALLBUILDCHECKBUILD BIN
scanMiRApp 1.15.1  (landing page)
Pierre-Luc Germain
git_last_commit: 8b674a7
git_last_commit_date: 2025-09-23 13:52:10 -0400
nebbiolo2Linux (Ubuntu 24.04.3 LTS) / x86_64  OK    OK    OK  UNNEEDED, same version is already published
lconwaymacOS 12.7.1 Monterey / x86_64  OK    OK    OK    OK  UNNEEDED, same version is already published
kjohnson3macOS 13.7.7 Ventura / arm64  OK    OK    OK    OK  UNNEEDED, same version is already published
taishanLinux (openEuler 24.03 LTS) / aarch64  OK    OK    ERROR  
Package 26/30HostnameOS / ArchINSTALLBUILDCHECKBUILD BIN
scruff 1.27.0  (landing page)
Zhe Wang
git_last_commit: e1c6930
git_last_commit_date: 2025-09-29 21:23:41 -0400
nebbiolo2Linux (Ubuntu 24.04.3 LTS) / x86_64  OK    ERROR  skipped
lconwaymacOS 12.7.1 Monterey / x86_64  OK    ERROR  skippedskipped
kjohnson3macOS 13.7.7 Ventura / arm64  OK    ERROR  skippedskipped
taishanLinux (openEuler 24.03 LTS) / aarch64  OK    ERROR  skipped
Package 27/30HostnameOS / ArchINSTALLBUILDCHECKBUILD BIN
sitadela 1.17.1  (landing page)
Panagiotis Moulos
git_last_commit: adb286b
git_last_commit_date: 2025-07-23 18:20:06 -0400
nebbiolo2Linux (Ubuntu 24.04.3 LTS) / x86_64  OK    OK    OK  UNNEEDED, same version is already published
lconwaymacOS 12.7.1 Monterey / x86_64  OK    OK    OK    OK  UNNEEDED, same version is already published
kjohnson3macOS 13.7.7 Ventura / arm64  OK    OK    OK    OK  UNNEEDED, same version is already published
taishanLinux (openEuler 24.03 LTS) / aarch64  OK    OK    OK  
Package 28/30HostnameOS / ArchINSTALLBUILDCHECKBUILD BIN
trackViewer 1.45.2  (landing page)
Jianhong Ou
git_last_commit: 08abfdd
git_last_commit_date: 2025-07-23 18:41:03 -0400
nebbiolo2Linux (Ubuntu 24.04.3 LTS) / x86_64  OK    OK    OK  UNNEEDED, same version is already published
lconwaymacOS 12.7.1 Monterey / x86_64  OK    OK    OK    OK  UNNEEDED, same version is already published
kjohnson3macOS 13.7.7 Ventura / arm64  OK    OK    OK    OK  UNNEEDED, same version is already published
taishanLinux (openEuler 24.03 LTS) / aarch64  OK    OK    OK  
Package 29/30HostnameOS / ArchINSTALLBUILDCHECKBUILD BIN
txcutr 1.15.2  (landing page)
Mervin Fansler
git_last_commit: e01f0e7
git_last_commit_date: 2025-09-07 08:44:28 -0400
nebbiolo2Linux (Ubuntu 24.04.3 LTS) / x86_64  OK    OK    OK  UNNEEDED, same version is already published
lconwaymacOS 12.7.1 Monterey / x86_64  OK    OK    OK    OK  UNNEEDED, same version is already published
kjohnson3macOS 13.7.7 Ventura / arm64  OK    OK    OK    OK  UNNEEDED, same version is already published
taishanLinux (openEuler 24.03 LTS) / aarch64  OK    OK    OK  
Package 30/30HostnameOS / ArchINSTALLBUILDCHECKBUILD BIN
tximeta 1.27.12  (landing page)
Michael Love
git_last_commit: bea8286
git_last_commit_date: 2025-10-02 13:17:55 -0400
nebbiolo2Linux (Ubuntu 24.04.3 LTS) / x86_64  OK    OK    OK  UNNEEDED, same version is already published
lconwaymacOS 12.7.1 Monterey / x86_64  OK    OK    OK    OK  UNNEEDED, same version is already published
kjohnson3macOS 13.7.7 Ventura / arm64  OK    OK    OK    OK  UNNEEDED, same version is already published
taishanLinux (openEuler 24.03 LTS) / aarch64  OK    OK    OK