Package: txcutr Version: 1.15.1 Command: F:\biocbuild\bbs-3.22-bioc\R\bin\R.exe CMD check --no-multiarch --install=check:txcutr.install-out.txt --library=F:\biocbuild\bbs-3.22-bioc\R\library --no-vignettes --timings txcutr_1.15.1.tar.gz StartedAt: 2025-08-15 09:03:22 -0400 (Fri, 15 Aug 2025) EndedAt: 2025-08-15 09:33:00 -0400 (Fri, 15 Aug 2025) EllapsedTime: 1778.4 seconds RetCode: 0 Status: OK CheckDir: txcutr.Rcheck Warnings: 0